BEGIN:VCALENDAR
PRODID:-//ActOn//iCal4j 1.1//EN
VERSION:2.0
CALSCALE:GREGORIAN
BEGIN:VEVENT
DTSTAMP:20260419T131323Z
DTSTART:20220614T160000Z
DTEND:20220614T200000Z
SUMMARY:CIJ - Cannabis Labs Virtual Conference
DESCRIPTION:CIJ - Cannabis Labs Virtual Conference\n\n
UID:AO_EVENT_17960_001b__1652808297224
END:VEVENT
END:VCALENDAR
